<?xml version="1.0" encoding="UTF-8"?>
<Capabilities xmlns="http://www.opengis.net/wmts/1.0"
xmlns:ows="http://www.opengis.net/ows/1.1"
xmlns:xlink="http://www.w3.org/1999/xlink"
xmlns:xsi="http://www.w3.org/2001/XMLSchema-instance"
xmlns:gml="http://www.opengis.net/gml"
xsi:schemaLocation="http://www.opengis.net/wmts/1.0 http://schemas.opengis.net/wmts/1.0/wmtsGetCapabilities_response.xsd"
version="1.0.0">
<!-- Service Identification --> <ows:ServiceIdentification>
<ows:Title>basemaps_ncc_enclosure</ows:Title>
<ows:ServiceType>OGC WMTS</ows:ServiceType>
<ows:ServiceTypeVersion>1.0.0</ows:ServiceTypeVersion>
</ows:ServiceIdentification> <!-- Operations Metadata --> <ows:OperationsMetadata>
<ows:Operation name="GetCapabilities">
<ows:DCP>
<ows:HTTP>
<ows:Get xlink:href="https://arcgisweb.norfolk.gov.uk/arcgis/rest/services/basemaps/ncc_enclosure/MapServer/WMTS/1.0.0/WMTSCapabilities.xml">
<ows:Constraint name="GetEncoding">
<ows:AllowedValues>
<ows:Value>RESTful</ows:Value>
</ows:AllowedValues>
</ows:Constraint>
</ows:Get>
<!-- add KVP binding in 10.1 -->
<ows:Get xlink:href="https://arcgisweb.norfolk.gov.uk/arcgis/rest/services/basemaps/ncc_enclosure/MapServer/WMTS?">
<ows:Constraint name="GetEncoding">
<ows:AllowedValues>
<ows:Value>KVP</ows:Value>
</ows:AllowedValues>
</ows:Constraint>
</ows:Get>
</ows:HTTP>
</ows:DCP>
</ows:Operation>
<ows:Operation name="GetTile">
<ows:DCP>
<ows:HTTP>
<ows:Get xlink:href="https://arcgisweb.norfolk.gov.uk/arcgis/rest/services/basemaps/ncc_enclosure/MapServer/WMTS/tile/1.0.0/">
<ows:Constraint name="GetEncoding">
<ows:AllowedValues>
<ows:Value>RESTful</ows:Value>
</ows:AllowedValues>
</ows:Constraint>
</ows:Get>
<ows:Get xlink:href="https://arcgisweb.norfolk.gov.uk/arcgis/rest/services/basemaps/ncc_enclosure/MapServer/WMTS?">
<ows:Constraint name="GetEncoding">
<ows:AllowedValues>
<ows:Value>KVP</ows:Value>
</ows:AllowedValues>
</ows:Constraint>
</ows:Get>
</ows:HTTP>
</ows:DCP>
</ows:Operation>
</ows:OperationsMetadata> <Contents>
<!--Layer--> <Layer>
<ows:Title>basemaps_ncc_enclosure</ows:Title> <ows:Identifier>basemaps_ncc_enclosure</ows:Identifier>
<ows:BoundingBox crs="urn:ogc:def:crs:EPSG::27700">
<ows:LowerCorner>500012.5 199987.5</ows:LowerCorner>
<ows:UpperCorner>700000.0 399987.5</ows:UpperCorner>
</ows:BoundingBox> <ows:WGS84BoundingBox crs="urn:ogc:def:crs:OGC:2:84">
<ows:LowerCorner>-0.5529871428797892 51.61811540856395</ows:LowerCorner>
<ows:UpperCorner>2.515005062263336 53.486832823459615</ows:UpperCorner>
</ows:WGS84BoundingBox>
<Style isDefault="true">
<ows:Title>Default Style</ows:Title>
<ows:Identifier>default</ows:Identifier>
</Style>
<Format>image/jpgpng</Format>
<TileMatrixSetLink>
<TileMatrixSet>default028mm</TileMatrixSet>
</TileMatrixSetLink>
<ResourceURL format="image/jpgpng" resourceType="tile" template="https://arcgisweb.norfolk.gov.uk/arcgis/rest/services/basemaps/ncc_enclosure/MapServer/WMTS/tile/1.0.0/basemaps_ncc_enclosure/{Style}/{TileMatrixSet}/{TileMatrix}/{TileRow}/{TileCol}" />
</Layer> <!--TileMatrixSet-->
<TileMatrixSet>
<ows:Title>TileMatrix using 0.28mm</ows:Title>
<ows:Abstract>The tile matrix set that has scale values calculated based on the dpi defined by OGC specification (dpi assumes 0.28mm as the physical distance of a pixel).</ows:Abstract> <ows:Identifier>default028mm</ows:Identifier>
<ows:SupportedCRS>urn:ogc:def:crs:EPSG::27700</ows:SupportedCRS>
<TileMatrix>
<ows:Identifier>0</ows:Identifier>
<ScaleDenominator>483810.49143044587</ScaleDenominator>
<TopLeftCorner>-5220400.0 4470200.0</TopLeftCorner> <TileWidth>512</TileWidth> <TileHeight>512</TileHeight>
<MatrixWidth>86</MatrixWidth> <MatrixHeight>62</MatrixHeight>
</TileMatrix>
<TileMatrix>
<ows:Identifier>1</ows:Identifier>
<ScaleDenominator>241905.24571522293</ScaleDenominator>
<TopLeftCorner>-5220400.0 4470200.0</TopLeftCorner> <TileWidth>512</TileWidth> <TileHeight>512</TileHeight>
<MatrixWidth>171</MatrixWidth> <MatrixHeight>124</MatrixHeight>
</TileMatrix>
<TileMatrix>
<ows:Identifier>2</ows:Identifier>
<ScaleDenominator>120952.62285761147</ScaleDenominator>
<TopLeftCorner>-5220400.0 4470200.0</TopLeftCorner> <TileWidth>512</TileWidth> <TileHeight>512</TileHeight>
<MatrixWidth>342</MatrixWidth> <MatrixHeight>247</MatrixHeight>
</TileMatrix>
<TileMatrix>
<ows:Identifier>3</ows:Identifier>
<ScaleDenominator>60476.31142880573</ScaleDenominator>
<TopLeftCorner>-5220400.0 4470200.0</TopLeftCorner> <TileWidth>512</TileWidth> <TileHeight>512</TileHeight>
<MatrixWidth>683</MatrixWidth> <MatrixHeight>493</MatrixHeight>
</TileMatrix>
<TileMatrix>
<ows:Identifier>4</ows:Identifier>
<ScaleDenominator>30238.155714402867</ScaleDenominator>
<TopLeftCorner>-5220400.0 4470200.0</TopLeftCorner> <TileWidth>512</TileWidth> <TileHeight>512</TileHeight>
<MatrixWidth>1366</MatrixWidth> <MatrixHeight>986</MatrixHeight>
</TileMatrix>
<TileMatrix>
<ows:Identifier>5</ows:Identifier>
<ScaleDenominator>15119.077857201433</ScaleDenominator>
<TopLeftCorner>-5220400.0 4470200.0</TopLeftCorner> <TileWidth>512</TileWidth> <TileHeight>512</TileHeight>
<MatrixWidth>2732</MatrixWidth> <MatrixHeight>1971</MatrixHeight>
</TileMatrix>
<TileMatrix>
<ows:Identifier>6</ows:Identifier>
<ScaleDenominator>7559.538928600717</ScaleDenominator>
<TopLeftCorner>-5220400.0 4470200.0</TopLeftCorner> <TileWidth>512</TileWidth> <TileHeight>512</TileHeight>
<MatrixWidth>5463</MatrixWidth> <MatrixHeight>3941</MatrixHeight>
</TileMatrix>
<TileMatrix>
<ows:Identifier>7</ows:Identifier>
<ScaleDenominator>3779.7694643003583</ScaleDenominator>
<TopLeftCorner>-5220400.0 4470200.0</TopLeftCorner> <TileWidth>512</TileWidth> <TileHeight>512</TileHeight>
<MatrixWidth>10926</MatrixWidth> <MatrixHeight>7881</MatrixHeight>
</TileMatrix>
<TileMatrix>
<ows:Identifier>8</ows:Identifier>
<ScaleDenominator>1889.8847321501792</ScaleDenominator>
<TopLeftCorner>-5220400.0 4470200.0</TopLeftCorner> <TileWidth>512</TileWidth> <TileHeight>512</TileHeight>
<MatrixWidth>21852</MatrixWidth> <MatrixHeight>15762</MatrixHeight>
</TileMatrix>
<TileMatrix>
<ows:Identifier>9</ows:Identifier>
<ScaleDenominator>944.9423660750896</ScaleDenominator>
<TopLeftCorner>-5220400.0 4470200.0</TopLeftCorner> <TileWidth>512</TileWidth> <TileHeight>512</TileHeight>
<MatrixWidth>43704</MatrixWidth> <MatrixHeight>31523</MatrixHeight>
</TileMatrix>
<TileMatrix>
<ows:Identifier>10</ows:Identifier>
<ScaleDenominator>472.4711830375448</ScaleDenominator>
<TopLeftCorner>-5220400.0 4470200.0</TopLeftCorner> <TileWidth>512</TileWidth> <TileHeight>512</TileHeight>
<MatrixWidth>87408</MatrixWidth> <MatrixHeight>63045</MatrixHeight>
</TileMatrix>
</TileMatrixSet>
</Contents>
<ServiceMetadataURL xlink:href="https://arcgisweb.norfolk.gov.uk/arcgis/rest/services/basemaps/ncc_enclosure/MapServer/WMTS/1.0.0/WMTSCapabilities.xml" /> </Capabilities>
